BEGIN:VCALENDAR
PRODID:-//kirchenweb.ch gmbh//veranstaltungsausgabe v2.0//DE
VERSION:2.0
METHOD:PUBLISH
BEGIN:VEVENT
DTSTART:20260812T073000Z
DTEND:20260812T080000Z
LOCATION:Rosenhofpark\, Gessnerweg 5\, 8820 Wädenswil
TRANSP:OPAQUE
SEQUENCE:0
UID:45709-veranstaltung@kirche-waedenswil.ch
DTSTAMP:20250829T083310Z
DESCRIPTION:Genussturnen 60+ \nfür Frauen und Männer mit Claudia
  Volkart.\nZeit: 9.30 – 10.00\nOrt: Rosenhofpark bei trockenem Wetter.
  Bei Regenwetter Foyer 2. Stock im Kirchgemeindehaus.\nBekleidung: Bequeme
  Kleider\, Schuhe oder Sandalen.\nKafi: Anschliessend ans Genussturnen im
  Rosemätteli oder im Rosenhofpark an der Wunderbar.\n\nMachen Sie mit?\n
 \n\nKontakt: Petra Fischer\, 044 783 00 52\n\nWeitere Infos:
  https://www.kirche-waedenswil.ch/veranstaltung/45709
SUMMARY:Genussturnen 60+
PRIORITY:5
X-MICROSOFT-CDO-IMPORTANCE:1
CLASS:PUBLIC
END:VEVENT
END:VCALENDAR
