BEGIN:VCALENDAR
PRODID:-//kirchenweb.ch gmbh//veranstaltungsausgabe v2.0//DE
VERSION:2.0
METHOD:PUBLISH
BEGIN:VEVENT
DTSTART:20260715T073000Z
DTEND:20260715T080000Z
LOCATION:Rosenhofpark\, Gessnerweg 5\, 8820 Wädenswil
TRANSP:OPAQUE
SEQUENCE:0
UID:45687-veranstaltung@kirche-waedenswil.ch
DTSTAMP:20250823T190235Z
DESCRIPTION:Genussturnen 60+ \nfür Frauen und Männer mit Claudia
  Volkart.\nZeit: 9.30 – 10.00\nOrt: Rosenhofpark bei trockenem Wetter.
  Bei Regenwetter Foyer 2. Stock im Kirchgemeindehaus.\nBekleidung: Bequeme
  Kleider\, Schuhe oder Sandalen.\nKafi: Anschliessend ans Genussturnen im
  Rosemätteli oder im Rosenhofpark an der Wunderbar.\n\nEs ist keine
  Anmeldung erforderlich!\nDas Angebot ist kostenlos!\nVersicherung ist
  Sache der Teilnehmenden.\n\nMachen Sie mit?\n\n\nKontakt: Petra Fischer\,
  044 783 00 52\n\nWeitere Infos:
  https://www.kirche-waedenswil.ch/veranstaltung/45687
SUMMARY:Genussturnen 60+
PRIORITY:5
X-MICROSOFT-CDO-IMPORTANCE:1
CLASS:PUBLIC
END:VEVENT
END:VCALENDAR
