BEGIN:VCALENDAR
PRODID:-//kirchenweb.ch gmbh//veranstaltungsausgabe v2.0//DE
VERSION:2.0
METHOD:PUBLISH
BEGIN:VEVENT
DTSTART:20260606T150000Z
DTEND:20260606T163000Z
LOCATION:Kirche\, Schönenbergstr. 9\, 8820 Wädenswil
TRANSP:OPAQUE
SEQUENCE:0
UID:45668-veranstaltung@kirche-waedenswil.ch
DTSTAMP:20250820T143313Z
DESCRIPTION:Kontakt: christian.scharpf@kirche-waedenswil.ch\n\nWeitere
  Infos: https://www.kirche-waedenswil.ch/veranstaltung/45668
SUMMARY:Probe Konfirmation B C
PRIORITY:5
X-MICROSOFT-CDO-IMPORTANCE:1
CLASS:PUBLIC
END:VEVENT
END:VCALENDAR
