BEGIN:VCALENDAR
PRODID:-//kirchenweb.ch gmbh//veranstaltungsausgabe v2.0//DE
VERSION:2.0
METHOD:PUBLISH
BEGIN:VEVENT
DTSTART:20260523T163000Z
DTEND:20260523T173000Z
LOCATION:Kirche\, Schönenbergstr. 9\, 8820 Wädenswil
TRANSP:OPAQUE
SEQUENCE:0
UID:45664-veranstaltung@kirche-waedenswil.ch
DTSTAMP:20260413T104822Z
DESCRIPTION:Evamaria Felder\, Querflöte \nMirjam Wagner-Meister\, Klavier
  \n\nKontakt: Mirjam Wagner\, 076 477 10 81\n\nWeitere Infos:
  https://www.kirche-waedenswil.ch/veranstaltung/45664
SUMMARY:Pfingstkonzert
PRIORITY:5
X-MICROSOFT-CDO-IMPORTANCE:1
CLASS:PUBLIC
END:VEVENT
END:VCALENDAR
