BEGIN:VCALENDAR
PRODID:-//kirchenweb.ch gmbh//veranstaltungsausgabe v2.0//DE
VERSION:2.0
METHOD:PUBLISH
BEGIN:VEVENT
DTSTART:20260714T073000Z
DTEND:20260714T130000Z
LOCATION:Kirchgemeindehaus Rosenmatt\, Gessnerweg 5\, 8820 Wädenswil
TRANSP:OPAQUE
SEQUENCE:0
UID:45593-veranstaltung@kirche-waedenswil.ch
DTSTAMP:20250722T194438Z
DESCRIPTION:Kontakt: Monika Tiken\, 079 614 11 78‬\n\nWeitere Infos:
  https://www.kirche-waedenswil.ch/veranstaltung/45593
SUMMARY:PranaKids
PRIORITY:5
X-MICROSOFT-CDO-IMPORTANCE:1
CLASS:PUBLIC
END:VEVENT
END:VCALENDAR
