BEGIN:VCALENDAR
PRODID:-//kirchenweb.ch gmbh//veranstaltungsausgabe v2.0//DE
VERSION:2.0
METHOD:PUBLISH
BEGIN:VEVENT
DTSTART:20251209T130000Z
DTEND:20251209T150000Z
LOCATION:Untere Bergstr. 47\, Herrlisberg\, Wädenswil\, \,
TRANSP:OPAQUE
SEQUENCE:0
UID:45588-veranstaltung@kirche-waedenswil.ch
DTSTAMP:20251023T142357Z
DESCRIPTION:Bibelgesprächskreis\, Adventsfeier\n\nKontakt: Margrith
  Jost\, 044 783 00 54\n\nWeitere Infos:
  https://www.kirche-waedenswil.ch/veranstaltung/45588
SUMMARY:Missionsverein
PRIORITY:5
X-MICROSOFT-CDO-IMPORTANCE:1
CLASS:PUBLIC
END:VEVENT
END:VCALENDAR
