BEGIN:VCALENDAR
PRODID:-//kirchenweb.ch gmbh//veranstaltungsausgabe v2.0//DE
VERSION:2.0
METHOD:PUBLISH
BEGIN:VEVENT
DTSTART:20260508T170000Z
DTEND:20260508T181500Z
LOCATION:Kirche\, Schönenbergstr. 9\, 8820 Wädenswil
TRANSP:OPAQUE
SEQUENCE:0
UID:45583-veranstaltung@kirche-waedenswil.ch
DTSTAMP:20260106T195109Z
DESCRIPTION:jura süd\nMundart-Pop mit Herz: kreativ - verspielt -
  authentisch\n\nJura Süd ist ein energiegeladenes\, kreatives Mundart-Pop
  Trio aus der Schweiz. Mit viel Herzblut und Spielfreude schreiben die
  drei Bandmitglieder eigene Songs\, die eingängig und zugleich
  tiefgründig sind. Ihre Musik erzählt Geschichten aus dem Leben – mal
  nachdenklich\, mal verspielt – immer echt und mitten aus dem Alltag.
  Eigentlich stammt nur Marion tatsächlich aus der Region südlich des
  Jura\, aber mit Monika aus dem Züribiet und Simon aus dem Luzernischen
  erweitert sich das „Süd“ musikalisch wie geografisch mit einem
  Augenzwinkern.\n\nMarion Zollinger\, Gesang/Cajon\nMonika Tiken\,
  Saxophon/Klavier/Gesang\nSimon Bächinger\, Klavier/Bassdrum/Gesang\n\n
 \nKontakt: Monika Tiken\, 079 614 11 78‬\n\nWeitere Infos:
  https://www.kirche-waedenswil.ch/veranstaltung/45583
SUMMARY:AusKlang mit Jura Süd
PRIORITY:5
X-MICROSOFT-CDO-IMPORTANCE:1
CLASS:PUBLIC
END:VEVENT
END:VCALENDAR
