BEGIN:VCALENDAR
PRODID:-//kirchenweb.ch gmbh//veranstaltungsausgabe v2.0//DE
VERSION:2.0
METHOD:PUBLISH
BEGIN:VEVENT
DTSTART:20260526T164500Z
DTEND:20260526T181500Z
LOCATION:Kirchgemeindehaus Rosenmatt\, Gessnerweg 5\, 8820 Wädenswil
TRANSP:OPAQUE
SEQUENCE:0
UID:45569-veranstaltung@kirche-waedenswil.ch
DTSTAMP:20250820T142835Z
DESCRIPTION:Kontakt: Pfr. Christian Scharpf\, 078 622 00 28\n\nWeitere
  Infos: https://www.kirche-waedenswil.ch/veranstaltung/45569
SUMMARY:Konf-Kurs B und C 26 Scharpf
PRIORITY:5
X-MICROSOFT-CDO-IMPORTANCE:1
CLASS:PUBLIC
END:VEVENT
END:VCALENDAR
