BEGIN:VCALENDAR
PRODID:-//kirchenweb.ch gmbh//veranstaltungsausgabe v2.0//DE
VERSION:2.0
METHOD:PUBLISH
BEGIN:VEVENT
DTSTART:20251211T071500Z
DTEND:20251211T081500Z
LOCATION:Kirchgemeindehaus Rosenmatt\, Gessnerweg 5\, 8820 Wädenswil
TRANSP:OPAQUE
SEQUENCE:0
UID:45460-veranstaltung@kirche-waedenswil.ch
DTSTAMP:20250709T152043Z
DESCRIPTION:Gesprächsrunde zu biblischen Texten und Themen. Im zweiten
  Halbjahr 2025 befassen wir uns mit dem Markusevangelium. Interessierte
  sind jederzeit willkommen. \n\nKontakt: Pfrn. Undine Gellner\, 044 680 41
  48\n\nWeitere Infos: https://www.kirche-waedenswil.ch/veranstaltung/45460
SUMMARY:Erfrischung
PRIORITY:5
X-MICROSOFT-CDO-IMPORTANCE:1
CLASS:PUBLIC
END:VEVENT
END:VCALENDAR
