BEGIN:VCALENDAR
PRODID:-//kirchenweb.ch gmbh//veranstaltungsausgabe v2.0//DE
VERSION:2.0
METHOD:PUBLISH
BEGIN:VEVENT
DTSTART:20261024T090000Z
DTEND:20261024T100000Z
LOCATION:Kirche\, Schönenbergstr. 9\, 8820 Wädenswil
TRANSP:OPAQUE
SEQUENCE:0
UID:45409-veranstaltung@kirche-waedenswil.ch
DTSTAMP:20251011T125354Z
DESCRIPTION:Christian Enzler\, Orgel \n\nKontakt:
  mirjam.wagner@kirche-waedenswil.ch\n\nWeitere Infos:
  https://www.kirche-waedenswil.ch/veranstaltung/45409
SUMMARY:orgel.fenster Orgelmusik zur Marktzeit
PRIORITY:5
X-MICROSOFT-CDO-IMPORTANCE:1
CLASS:PUBLIC
END:VEVENT
END:VCALENDAR
