BEGIN:VCALENDAR
PRODID:-//kirchenweb.ch gmbh//veranstaltungsausgabe v2.0//DE
VERSION:2.0
METHOD:PUBLISH
BEGIN:VEVENT
DTSTART:20260926T090000Z
DTEND:20260926T100000Z
LOCATION:Kirche\, Schönenbergstr. 9\, 8820 Wädenswil
TRANSP:OPAQUE
SEQUENCE:0
UID:45408-veranstaltung@kirche-waedenswil.ch
DTSTAMP:20251011T125338Z
DESCRIPTION:Sven Angelo Mindeci\, Akkordeon \nMirjam Wagner-Meister\,
  Orgel \n\nKontakt: mirjam.wagner@kirche-waedenswil.ch\n\nWeitere Infos:
  https://www.kirche-waedenswil.ch/veranstaltung/45408
SUMMARY:orgel.fenster Orgelmusik zur Marktzeit mit Akkordeon
PRIORITY:5
X-MICROSOFT-CDO-IMPORTANCE:1
CLASS:PUBLIC
END:VEVENT
END:VCALENDAR
