BEGIN:VCALENDAR
PRODID:-//kirchenweb.ch gmbh//veranstaltungsausgabe v2.0//DE
VERSION:2.0
METHOD:PUBLISH
BEGIN:VEVENT
DTSTART:20260718T073000Z
DTEND:20260718T083000Z
LOCATION:Kirche\, Schönenbergstr. 9\, 8820 Wädenswil
TRANSP:OPAQUE
SEQUENCE:0
UID:45406-veranstaltung@kirche-waedenswil.ch
DTSTAMP:20251011T124145Z
DESCRIPTION:mit Mirjam Wagner-Meister\, Orgel \n\nKontakt: Mirjam Wagner\,
  076 477 10 81\n\nWeitere Infos:
  https://www.kirche-waedenswil.ch/veranstaltung/45406
SUMMARY:orgel.fenster Orgelmusik zur Marktzeit
PRIORITY:5
X-MICROSOFT-CDO-IMPORTANCE:1
CLASS:PUBLIC
END:VEVENT
END:VCALENDAR
