BEGIN:VCALENDAR
PRODID:-//kirchenweb.ch gmbh//veranstaltungsausgabe v2.0//DE
VERSION:2.0
METHOD:PUBLISH
BEGIN:VEVENT
DTSTART:20251216T111500Z
DTEND:20251216T121500Z
LOCATION:Kirchgemeindehaus Rosenmatt\, Gessnerweg 5\, 8820 Wädenswil
TRANSP:OPAQUE
SEQUENCE:0
UID:45374-veranstaltung@kirche-waedenswil.ch
DTSTAMP:20250701T125226Z
DESCRIPTION:Kontakt: Pfrn. Salome Probst\, 079 324 97 79\nSimone Hauser\,
  044 783 00 55\n\nWeitere Infos:
  https://www.kirche-waedenswil.ch/veranstaltung/45374
SUMMARY:PastaZischtig
PRIORITY:5
X-MICROSOFT-CDO-IMPORTANCE:1
CLASS:PUBLIC
END:VEVENT
END:VCALENDAR
