BEGIN:VCALENDAR
PRODID:-//kirchenweb.ch gmbh//veranstaltungsausgabe v2.0//DE
VERSION:2.0
METHOD:PUBLISH
BEGIN:VEVENT
DTSTART;VALUE=DATE:20260424
DTEND;VALUE=DATE:20260425
LOCATION:Oberägeri\, \,
TRANSP:OPAQUE
SEQUENCE:0
UID:45293-veranstaltung@kirche-waedenswil.ch
DTSTAMP:20250617T063422Z
DESCRIPTION:Kontakt: simone.hauser@kirche-waedenswil.ch\n\nWeitere Infos:
  https://www.kirche-waedenswil.ch/veranstaltung/45293
SUMMARY:Club 4 Forschercamp
PRIORITY:5
X-MICROSOFT-CDO-IMPORTANCE:1
CLASS:PUBLIC
END:VEVENT
END:VCALENDAR
