BEGIN:VCALENDAR
PRODID:-//kirchenweb.ch gmbh//veranstaltungsausgabe v2.0//DE
VERSION:2.0
METHOD:PUBLISH
BEGIN:VEVENT
DTSTART:20260717T063000Z
DTEND:20260717T113000Z
LOCATION:Kirchenpavillon Au\, General-Werdmüller-Strasse 20\, 8804 Au
TRANSP:OPAQUE
SEQUENCE:0
UID:45285-veranstaltung@kirche-waedenswil.ch
DTSTAMP:20250616T080802Z
DESCRIPTION:Kontakt: Katja Wildberger\, 043 538 52 42\n\nWeitere Infos:
  https://www.kirche-waedenswil.ch/veranstaltung/45285
SUMMARY:3.Klassuntilager Sommer
PRIORITY:5
X-MICROSOFT-CDO-IMPORTANCE:1
CLASS:PUBLIC
END:VEVENT
END:VCALENDAR
