BEGIN:VCALENDAR
PRODID:-//kirchenweb.ch gmbh//veranstaltungsausgabe v2.0//DE
VERSION:2.0
METHOD:PUBLISH
BEGIN:VEVENT
DTSTART:20260207T083000Z
DTEND:20260207T133000Z
LOCATION:Kirchgemeindehaus Rosenmatt\, Gessnerweg 5\, 8820 Wädenswil
TRANSP:OPAQUE
SEQUENCE:0
UID:45270-veranstaltung@kirche-waedenswil.ch
DTSTAMP:20250617T063902Z
DESCRIPTION:Kontakt: simone.hauser@kirche-waedenswil.ch\n\nWeitere Infos:
  https://www.kirche-waedenswil.ch/veranstaltung/45270
SUMMARY:Club 4 Modul 2
PRIORITY:5
X-MICROSOFT-CDO-IMPORTANCE:1
CLASS:PUBLIC
END:VEVENT
END:VCALENDAR
