BEGIN:VCALENDAR
PRODID:-//kirchenweb.ch gmbh//veranstaltungsausgabe v2.0//DE
VERSION:2.0
METHOD:PUBLISH
BEGIN:VEVENT
DTSTART:20261222T180000Z
DTEND:20261222T210000Z
LOCATION:Kirche\, Schönenbergstr. 9\, 8820 Wädenswil
TRANSP:OPAQUE
SEQUENCE:0
UID:45255-veranstaltung@kirche-waedenswil.ch
DTSTAMP:20250605T140119Z
DESCRIPTION:Kontakt: Hanspeter Pfister\, Schönenberg\n\nWeitere Infos:
  https://www.kirche-waedenswil.ch/veranstaltung/45255
SUMMARY:Hauptprobe Gastkonzert Blaskapelle Zimmerberg prov.
PRIORITY:5
X-MICROSOFT-CDO-IMPORTANCE:1
CLASS:PUBLIC
END:VEVENT
END:VCALENDAR
