BEGIN:VCALENDAR
PRODID:-//kirchenweb.ch gmbh//veranstaltungsausgabe v2.0//DE
VERSION:2.0
METHOD:PUBLISH
BEGIN:VEVENT
DTSTART;VALUE=DATE:20260717
DTEND;VALUE=DATE:20260718
LOCATION:Auswärts\, \,
TRANSP:OPAQUE
SEQUENCE:0
UID:45247-veranstaltung@kirche-waedenswil.ch
DTSTAMP:20250604T195222Z
DESCRIPTION:Bist du in der 4.–6. Klasse? Findest du Lager zusammen mit
 \nvielen anderen Kindern toll? Dann solltest du unser Domino-\nSommerlager
  nicht verpassen. Zusammen erleben wir ganz\nviel Abenteuer und Spass und
  natürlich bleibt auch viel Zeit für\nSommer\, Sonne\, Freundschaft\,
  Spiel\, Musik\, Glace\, Wasserspass\nund Kreativität und das natürlich
  alles gewürzt mit einer Prise\nTiefgang. Die Woche findet in der ersten
  Sommerferienwoche an\neinem schönen Ort in der Schweizt stat\n\nKontakt:
  simone.hauser@kirche-waedenswil.ch\n\nWeitere Infos:
  https://www.kirche-waedenswil.ch/veranstaltung/45247
SUMMARY:Domino Sommerlager 2026
PRIORITY:5
X-MICROSOFT-CDO-IMPORTANCE:1
CLASS:PUBLIC
END:VEVENT
END:VCALENDAR
