BEGIN:VCALENDAR
PRODID:-//kirchenweb.ch gmbh//veranstaltungsausgabe v2.0//DE
VERSION:2.0
METHOD:PUBLISH
BEGIN:VEVENT
DTSTART:20260302T151500Z
DTEND:20260302T163000Z
LOCATION:Kirchgemeindehaus Rosenmatt\, Gessnerweg 5\, 8820 Wädenswil
TRANSP:OPAQUE
SEQUENCE:0
UID:45236-veranstaltung@kirche-waedenswil.ch
DTSTAMP:20250604T193742Z
DESCRIPTION:Freundschaft | spannende Geschichten | Kreativität | Spass -
  das ist Kolibri\nZum Kolibri sind alle Kinder zwischen dem 2. Chindsgi
  und der 3. Klasse eingeladen.\nWir freuen uns auf das Singen\, Lachen\,
  Spielen\, Basteln und auf spannende Geschichten.\nDabei kommen auch Spiel
  & Spass nicht zu kurz.\n\nKontakt: simone.hauser@kirche-waedenswil.ch\n
 \nWeitere Infos: https://www.kirche-waedenswil.ch/veranstaltung/45236
SUMMARY:Kolibri Wädi
PRIORITY:5
X-MICROSOFT-CDO-IMPORTANCE:1
CLASS:PUBLIC
END:VEVENT
END:VCALENDAR
