BEGIN:VCALENDAR
PRODID:-//kirchenweb.ch gmbh//veranstaltungsausgabe v2.0//DE
VERSION:2.0
METHOD:PUBLISH
BEGIN:VEVENT
DTSTART:20251201T151500Z
DTEND:20251201T163000Z
LOCATION:Kirchgemeindehaus Rosenmatt\, Gessnerweg 5\, 8820 Wädenswil
TRANSP:OPAQUE
SEQUENCE:0
UID:45233-veranstaltung@kirche-waedenswil.ch
DTSTAMP:20251130T151010Z
DESCRIPTION:Diesmal mit der zauberhaften Geschichte "das Hirtenlied‘ und
  in der \nAdventswerkstatt geht es lebhaft zu und her: Spiel\, Spass und
  viel Kreatives wartet auf dich! \n\n\nFreundschaft | spannende
  Geschichten | Kreativität | Spass - das ist Kolibri! \nZum Kolibri sind
  alle Kinder zwischen dem 2. Chindsgi und der 3. Klasse eingeladen.\nWir
  freuen uns auf das Singen\, Lachen\, Spielen\, Basteln und auf spannende
  Geschichten.\nDabei kommen auch Spiel & Spass nicht zu kurz.\n\nKontakt:
  simone.hauser@kirche-waedenswil.ch\n\nWeitere Infos:
  https://www.kirche-waedenswil.ch/veranstaltung/45233
SUMMARY:Kolibri Wädi im Advent
PRIORITY:5
X-MICROSOFT-CDO-IMPORTANCE:1
CLASS:PUBLIC
END:VEVENT
END:VCALENDAR
