BEGIN:VCALENDAR
PRODID:-//kirchenweb.ch gmbh//veranstaltungsausgabe v2.0//DE
VERSION:2.0
METHOD:PUBLISH
BEGIN:VEVENT
DTSTART:20251208T130000Z
DTEND:20251208T143000Z
LOCATION:Kirchgemeindehaus Rosenmatt\, Gessnerweg 5\, 8820 Wädenswil
TRANSP:OPAQUE
SEQUENCE:0
UID:45209-veranstaltung@kirche-waedenswil.ch
DTSTAMP:20250707T144706Z
DESCRIPTION:Kontakt: Pfrn. Undine Gellner\, 044 680 41 48\n\nWeitere
  Infos: https://www.kirche-waedenswil.ch/veranstaltung/45209
SUMMARY:Theologische Gesprächsreihe
PRIORITY:5
X-MICROSOFT-CDO-IMPORTANCE:1
CLASS:PUBLIC
END:VEVENT
END:VCALENDAR
