BEGIN:VCALENDAR
PRODID:-//kirchenweb.ch gmbh//veranstaltungsausgabe v2.0//DE
VERSION:2.0
METHOD:PUBLISH
BEGIN:VEVENT
DTSTART:20260612T153000Z
DTEND:20260612T170000Z
LOCATION:Kirche\, Schönenbergstr. 9\, 8820 Wädenswil
TRANSP:OPAQUE
SEQUENCE:0
UID:45188-veranstaltung@kirche-waedenswil.ch
DTSTAMP:20260217T115846Z
DESCRIPTION:DropIn-Taufe\n\nMöchten Sie sich gerne taufen lassen? \nOder
  wünschen Sie sich die Taufe für Ihr Kind?\n\nWir bieten zwei- bis
  dreimal im Jahr eine Tauffeier an\, die am frühen Freitagabend
  stattfindet.\nSie können sich gerne mit der zuständigen Pfarrperson im
  Voraus zu einem Taufgespräch treffen\, sie müssen aber nicht. Daher der
  Name ‚DropIn’.\nKommen Sie einfach mit den Menschen\, die Sie für
  die Feier mit dabei haben wollen in die Kirche. Es ist genug Zeit für
  ein Gespräch über die Taufe und um einen Taufvers auszusuchen.\nSie
  werden auch eine Taufkerze und eine Taufurkunde bekommen.\n\nWeil alles
  eher etwas spontan zu und her geht\, kann es gut sein\, dass gleichzeitig
  mehrere Tauffreudige in die Kirche tröpfeln. Das setzt eine gewisse
  Unkompliziertheit und Rücksichtnahme voraus. Am besten bringen Sie
  beides gleich schon mit.\n\nDanke\, dass Sie sich bei Interesse bis
  spätestens am Vortag um 16.00 Uhr kurz anmelden.\n\nAlle\, die mitfeiern
  wollen\, sind herzlich eingeladen\, als Gemeinde bei den DropIn-Taufen
  mit dabei zu sein!\n\n\n\n\nKontakt: Pfrn. Salome Probst\, 079 324 97 79
 \n\nWeitere Infos: https://www.kirche-waedenswil.ch/veranstaltung/45188
SUMMARY:DropIn-Taufe
PRIORITY:5
X-MICROSOFT-CDO-IMPORTANCE:1
CLASS:PUBLIC
END:VEVENT
END:VCALENDAR
