BEGIN:VCALENDAR
PRODID:-//kirchenweb.ch gmbh//veranstaltungsausgabe v2.0//DE
VERSION:2.0
METHOD:PUBLISH
BEGIN:VEVENT
DTSTART:20251117T091500Z
DTEND:20251117T100000Z
LOCATION:Kirchenpavillon Au\, General-Werdmüller-Strasse 20\, 8804 Au
TRANSP:OPAQUE
SEQUENCE:0
UID:45150-veranstaltung@kirche-waedenswil.ch
DTSTAMP:20250520T150949Z
DESCRIPTION:https://www.kirche-waedenswil.ch/kindersingen gehts zur
  Anmeldung\n\nKontakt: Rebekka Gantenbein\, 076 508 86 47‬\n\nWeitere
  Infos: https://www.kirche-waedenswil.ch/veranstaltung/45150
SUMMARY:Singe mit de Chlinschte Au Gruppe 2
PRIORITY:5
X-MICROSOFT-CDO-IMPORTANCE:1
CLASS:PUBLIC
END:VEVENT
END:VCALENDAR
