BEGIN:VCALENDAR
PRODID:-//kirchenweb.ch gmbh//veranstaltungsausgabe v2.0//DE
VERSION:2.0
METHOD:PUBLISH
BEGIN:VEVENT
DTSTART:20260507T130000Z
DTEND:20260507T153000Z
LOCATION:Kirchenpavillon Au\, General-Werdmüller-Strasse 20\, 8804 Au
TRANSP:OPAQUE
SEQUENCE:0
UID:45064-veranstaltung@kirche-waedenswil.ch
DTSTAMP:20250515T104550Z
DESCRIPTION:Kontakt: Rebekka Gantenbein\, 076 508 86 47‬\n\nWeitere
  Infos: https://www.kirche-waedenswil.ch/veranstaltung/45064
SUMMARY:Kolibri Au
PRIORITY:5
X-MICROSOFT-CDO-IMPORTANCE:1
CLASS:PUBLIC
END:VEVENT
END:VCALENDAR
