BEGIN:VCALENDAR
PRODID:-//kirchenweb.ch gmbh//veranstaltungsausgabe v2.0//DE
VERSION:2.0
METHOD:PUBLISH
BEGIN:VEVENT
DTSTART:20251211T130000Z
DTEND:20251211T163000Z
LOCATION:Kirchgemeindehaus Rosenmatt\, Gessnerweg 5\, 8820 Wädenswil
TRANSP:OPAQUE
SEQUENCE:0
UID:45053-veranstaltung@kirche-waedenswil.ch
DTSTAMP:20250514T161140Z
DESCRIPTION:Offenes Basteln für Kinder von ca. 2 Jährig bis Kindergarten
  zusammen mit einer Begleitperson.  Ab 1.-3. Klasse dürfen die Kinder
  auch alleine kommen.\nBitte Malschoss mitbringen.\n\nKontakt: Rebekka
  Gantenbein\, 076 508 86 47‬\n\nWeitere Infos:
  https://www.kirche-waedenswil.ch/veranstaltung/45053
SUMMARY:Geschenke basteln für Kinder
PRIORITY:5
X-MICROSOFT-CDO-IMPORTANCE:1
CLASS:PUBLIC
END:VEVENT
END:VCALENDAR
