BEGIN:VCALENDAR
PRODID:-//kirchenweb.ch gmbh//veranstaltungsausgabe v2.0//DE
VERSION:2.0
METHOD:PUBLISH
BEGIN:VEVENT
DTSTART:20260418T090000Z
DTEND:20260418T093000Z
LOCATION:Kirche\, Schönenbergstr. 9\, 8820 Wädenswil
TRANSP:OPAQUE
SEQUENCE:0
UID:45008-veranstaltung@kirche-waedenswil.ch
DTSTAMP:20260413T105354Z
DESCRIPTION:Reise \nmit Musik von Johann Sebastian Bach \n\nmit Mirjam
  Wagner-Meister\, Orgel \n\nKontakt: Mirjam Wagner\, 076 477 10 81\n
 \nWeitere Infos: https://www.kirche-waedenswil.ch/veranstaltung/45008
SUMMARY:orgel.fenster Orgelmusik zur Marktzeit
PRIORITY:5
X-MICROSOFT-CDO-IMPORTANCE:1
CLASS:PUBLIC
END:VEVENT
END:VCALENDAR
