BEGIN:VCALENDAR
PRODID:-//kirchenweb.ch gmbh//veranstaltungsausgabe v2.0//DE
VERSION:2.0
METHOD:PUBLISH
BEGIN:VEVENT
DTSTART:20260523T090000Z
DTEND:20260523T100000Z
LOCATION:Kirche\, Schönenbergstr. 9\, 8820 Wädenswil
TRANSP:OPAQUE
SEQUENCE:0
UID:45007-veranstaltung@kirche-waedenswil.ch
DTSTAMP:20260413T105257Z
DESCRIPTION:Tänze \n\nSimon Engel\, Saxophon \nMirjam Wagner-Meister\,
  Orgel \n\nProgramm Astor Piazolla Milonga del Angel \n1921-1992 \n
 \nMauricio Jost Sol en Blanco y Negro \n*1986\n\nAntoine Auberson IV.
  Danse ZZ\n*1957 	\n\nJean-Baptiste Robin Double danse \n*1976 \n
 \nKontakt: mirjam.wagner@kirche-waedenswil.ch\n\nWeitere Infos:
  https://www.kirche-waedenswil.ch/veranstaltung/45007
SUMMARY:orgel.fenster Orgelmusik zur Marktzeit mit Saxophon
PRIORITY:5
X-MICROSOFT-CDO-IMPORTANCE:1
CLASS:PUBLIC
END:VEVENT
END:VCALENDAR
