BEGIN:VCALENDAR
PRODID:-//kirchenweb.ch gmbh//veranstaltungsausgabe v2.0//DE
VERSION:2.0
METHOD:PUBLISH
BEGIN:VEVENT
DTSTART:20260124T100000Z
DTEND:20260124T110000Z
LOCATION:Kirche\, Schönenbergstr. 9\, 8820 Wädenswil
TRANSP:OPAQUE
SEQUENCE:0
UID:45006-veranstaltung@kirche-waedenswil.ch
DTSTAMP:20251011T125401Z
DESCRIPTION:Feuerwerk der Orgelmusik \nmit Mirjam Wagner-Meister\, Orgel 
 \n\nKontakt: mirjam.wagner@kirche-waedenswil.ch\n\nWeitere Infos:
  https://www.kirche-waedenswil.ch/veranstaltung/45006
SUMMARY:orgel.fenster Orgelmusik zur Marktzeit
PRIORITY:5
X-MICROSOFT-CDO-IMPORTANCE:1
CLASS:PUBLIC
END:VEVENT
END:VCALENDAR
