BEGIN:VCALENDAR
PRODID:-//kirchenweb.ch gmbh//veranstaltungsausgabe v2.0//DE
VERSION:2.0
METHOD:PUBLISH
BEGIN:VEVENT
DTSTART:20260417T150000Z
DTEND:20260417T180000Z
LOCATION:Kirchgemeindehaus Rosenmatt\, Gessnerweg 5\, 8820 Wädenswil
TRANSP:OPAQUE
SEQUENCE:0
UID:44989-veranstaltung@kirche-waedenswil.ch
DTSTAMP:20260415T061410Z
DESCRIPTION:Wir lernen die Perlen des Glaubens kennen\, ihre Bedeutung und
  Geschichte. Und jede/r gestaltet ihre/seine eigene Kette.\n\nKontakt:
  Rebekka Gantenbein\, 076 508 86 47‬\n\nWeitere Infos:
  https://www.kirche-waedenswil.ch/veranstaltung/44989
SUMMARY:JUKI - Perlen des Glaubens
PRIORITY:5
X-MICROSOFT-CDO-IMPORTANCE:1
CLASS:PUBLIC
END:VEVENT
END:VCALENDAR
