BEGIN:VCALENDAR
PRODID:-//kirchenweb.ch gmbh//veranstaltungsausgabe v2.0//DE
VERSION:2.0
METHOD:PUBLISH
BEGIN:VEVENT
DTSTART:20260303T180000Z
DTEND:20260303T193000Z
LOCATION:Kirchgemeindehaus Rosenmatt\, Gessnerweg 5\, 8820 Wädenswil
TRANSP:OPAQUE
SEQUENCE:0
UID:44961-veranstaltung@kirche-waedenswil.ch
DTSTAMP:20251107T085720Z
DESCRIPTION:Fast wie ein \n«Singen am Lagerfeuer» für Erwachsene\n\nWir
  singen eingängige Pop-\, Rock- und Folksongs.\nEs gibt kein Publikum.
  Wer kommt\, macht mit.\nWir üben auf kein Konzert\, keinen Auftritt hin.
 \n\nLeitung: Markus Alder\n\nAlle Infos unter http://www.popupstubete.ch\n
 \nKontakt: Markus Alder\, 044 783 00 50\n\nWeitere Infos:
  https://www.kirche-waedenswil.ch/veranstaltung/44961
SUMMARY:PopUpStubete
PRIORITY:5
X-MICROSOFT-CDO-IMPORTANCE:1
CLASS:PUBLIC
END:VEVENT
END:VCALENDAR
