BEGIN:VCALENDAR
PRODID:-//kirchenweb.ch gmbh//veranstaltungsausgabe v2.0//DE
VERSION:2.0
METHOD:PUBLISH
BEGIN:VEVENT
DTSTART:20260612T170000Z
DTEND:20260612T190000Z
LOCATION:Reidholz\, \,
TRANSP:OPAQUE
SEQUENCE:0
UID:44959-veranstaltung@kirche-waedenswil.ch
DTSTAMP:20250616T163640Z
DESCRIPTION:Kontakt: Rebekka Gantenbein\, 076 508 86 47‬\n\nWeitere
  Infos: https://www.kirche-waedenswil.ch/veranstaltung/44959
SUMMARY:JUKI - Glühwürmchenpirsch
PRIORITY:5
X-MICROSOFT-CDO-IMPORTANCE:1
CLASS:PUBLIC
END:VEVENT
END:VCALENDAR
