BEGIN:VCALENDAR
PRODID:-//kirchenweb.ch gmbh//veranstaltungsausgabe v2.0//DE
VERSION:2.0
METHOD:PUBLISH
BEGIN:VEVENT
DTSTART:20251210T084500Z
DTEND:20251210T094500Z
LOCATION:Altersheim und Wohnzentrum Fuhr\, Fuhrstr. 42\, 8820 Wädenswil
TRANSP:OPAQUE
SEQUENCE:0
UID:44918-veranstaltung@kirche-waedenswil.ch
DTSTAMP:20250413T184239Z
DESCRIPTION:Kontakt: Pfr. Erich Bosshard-Nepustil\, 079 530 40 24\n
 \nWeitere Infos: https://www.kirche-waedenswil.ch/veranstaltung/44918
SUMMARY:Gottesdienst Wohnzentrum Fuhr
PRIORITY:5
X-MICROSOFT-CDO-IMPORTANCE:1
CLASS:PUBLIC
END:VEVENT
END:VCALENDAR
