BEGIN:VCALENDAR
PRODID:-//kirchenweb.ch gmbh//veranstaltungsausgabe v2.0//DE
VERSION:2.0
METHOD:PUBLISH
BEGIN:VEVENT
DTSTART:20260117T120000Z
DTEND:20260117T150000Z
LOCATION:Kirche\, Schönenbergstr. 9\, 8820 Wädenswil
TRANSP:OPAQUE
SEQUENCE:0
UID:44744-veranstaltung@kirche-waedenswil.ch
DTSTAMP:20250327T064120Z
DESCRIPTION:In unserer riesigen Kletterhalle Gaswerk versuchen wir\, etwas
  zu wagen und Vertrauen zu üben. Du wirst bestimmt einige grosse
  Hindernisse meistern und Höhenluft schnuppern! \nDer Kurs wird zweimal
  angeboten. Du darfst dich bei einem eintragen.\n\nKontakt: Pfrn. Salome
  Probst\, 079 324 97 79\n\nWeitere Infos:
  https://www.kirche-waedenswil.ch/veranstaltung/44744
SUMMARY:JUKI Klettern und Vertrauen
PRIORITY:5
X-MICROSOFT-CDO-IMPORTANCE:1
CLASS:PUBLIC
END:VEVENT
END:VCALENDAR
