BEGIN:VCALENDAR
PRODID:-//kirchenweb.ch gmbh//veranstaltungsausgabe v2.0//DE
VERSION:2.0
METHOD:PUBLISH
BEGIN:VEVENT
DTSTART:20260329T080000Z
DTEND:20260329T090000Z
LOCATION:Kirche\, Schönenbergstr. 9\, 8820 Wädenswil
TRANSP:OPAQUE
SEQUENCE:0
UID:44721-veranstaltung@kirche-waedenswil.ch
DTSTAMP:20260320T141224Z
DESCRIPTION:50 Kinder haben am Freitag und Samstag unzählige Lego zu
  einer grossen Stadt verbaut.\n\nDiese Stadt dient heute als Kulisse für
  unseren "FamilyChurch"-Gottesdienst. \nNicht alle Baustellen werden
  fertig sein - es ist ein wenig wie im Leben: Da werden Pläne gemacht
  (wer macht eigentlich den Plan für mein Leben?)\, da wird eifrig gebaut
  alleine und mit andern\, aber da wird auch immer wieder mal abgerissen\,
  korrigiert\, neu geplant und weiter gebaut. Und das Ganze braucht - nebst
  einem feinen und währschaften Znüni - natürlich auch viel Kraft und
  Zuversicht.\n\nWährend des Gottesdienstes können auch all die
  Lego-Bauwerke besichtigt und bestaunt werden.\nUnd danach kann - wer mag
  - gern noch beim Abbrechen und Zurücksortieren helfen.\n\n\n\nKollekte
  für den Bibellesebund auch via Twint: \n\n\nKontakt: Pfr. Frank
  Lehmann\, 044 780 33 55\n\nWeitere Infos:
  https://www.kirche-waedenswil.ch/veranstaltung/44721
SUMMARY:JUKI - LEGO Stadt - "FamilyChurch"-Gottesdienst
PRIORITY:5
X-MICROSOFT-CDO-IMPORTANCE:1
CLASS:PUBLIC
END:VEVENT
END:VCALENDAR
