BEGIN:VCALENDAR
PRODID:-//kirchenweb.ch gmbh//veranstaltungsausgabe v2.0//DE
VERSION:2.0
METHOD:PUBLISH
BEGIN:VEVENT
DTSTART:20260329T090000Z
DTEND:20260329T111500Z
LOCATION:Kirche\, \,
TRANSP:OPAQUE
SEQUENCE:0
UID:44719-veranstaltung@kirche-waedenswil.ch
DTSTAMP:20260302T080521Z
DESCRIPTION:Nun werden die Gebäude der Legostadt wieder abgebaut und die
  300 kg Legoteile sorgfältig zurücksortiert. Dank vieler freiwilliger
  Helferinnen und Helfer sollte das bis 1300/1330 erledigt sein.\n
 \nKontakt: Pfr. Frank Lehmann\, 044 780 33 55\n\nWeitere Infos:
  https://www.kirche-waedenswil.ch/veranstaltung/44719
SUMMARY:Legostadt aufräumen
PRIORITY:5
X-MICROSOFT-CDO-IMPORTANCE:1
CLASS:PUBLIC
END:VEVENT
END:VCALENDAR
