BEGIN:VCALENDAR
PRODID:-//kirchenweb.ch gmbh//veranstaltungsausgabe v2.0//DE
VERSION:2.0
METHOD:PUBLISH
BEGIN:VEVENT
DTSTART:20261106T180000Z
DTEND:20261106T210000Z
LOCATION:Kirche\, Schönenbergstr. 9\, 8820 Wädenswil
TRANSP:OPAQUE
SEQUENCE:0
UID:44711-veranstaltung@kirche-waedenswil.ch
DTSTAMP:20260318T180407Z
DESCRIPTION:Kontakt: Fabio Reichelt\, 044 783 00 50\n\nWeitere Infos:
  https://www.kirche-waedenswil.ch/veranstaltung/44711
SUMMARY:Hauptprobe RockGD
PRIORITY:5
X-MICROSOFT-CDO-IMPORTANCE:1
CLASS:PUBLIC
END:VEVENT
END:VCALENDAR
