BEGIN:VCALENDAR
PRODID:-//kirchenweb.ch gmbh//veranstaltungsausgabe v2.0//DE
VERSION:2.0
METHOD:PUBLISH
BEGIN:VEVENT
DTSTART:20260513T133000Z
DTEND:20260513T141500Z
LOCATION:Kirche\, Schönenbergstr. 9\, 8820 Wädenswil
TRANSP:OPAQUE
SEQUENCE:0
UID:44179-veranstaltung@kirche-waedenswil.ch
DTSTAMP:20260323T074342Z
DESCRIPTION:Ein Garten für Alle\nDer Bär hat ein Projekt. Und zwar ein
  sehr schönes. Er möchte nämlich einen Garten anpflanzen. Mitten im
  Wald. Und dazu legt er sich ordentlich ins Zeug. Er schuftet und schuftet
  und dann\, tatsächlich\, wachsen die Pflanzen. Sie tragen Früchte. Und
  aus dem Boden schiesst allerlei Gemüse. Doch daran freut sich nicht nur
  der Bär. Den anderen Tieren gefällt der Garten auch sehr gut. Aber sie
  wollen nicht etwa gärtnern\, nein\, sie wollen alles essen. Und das
  findet der Bär natürlich gar nicht nett. Ob und was sie für eine
  Lösung finden ...? \nSchön\, wenn du mit uns mitfeierst!\n\n\nFiire mit
  de Chliine\n- eine Feier für die Kleinen bis zu fünf Jahren mit ihren
  Bezugspersonen. Ältere Kinder sind auch herzlich willkommen!\n- eine
  spannende Geschichte\n- singen\, beten\, feiern\, spielen\, zusammen sein
 \n- eine gute Möglichkeit\, neue Bekanntschaften zu schliessen\n\nTeam
 \nEine Gruppe von Frauen mit guten Ideen\, viel Herzblut und Kreativität:
  Anita Krauss-Breitling\, Andrea Kurzen\, Sabine Grätzer und Pfrn. Salome
  Probst\n\n\nKontakt: Pfrn. Salome Probst\, 079 324 97 79\n\nWeitere
  Infos: https://www.kirche-waedenswil.ch/veranstaltung/44179
SUMMARY:Fiire mit de Chliine und de Grösserä
PRIORITY:5
X-MICROSOFT-CDO-IMPORTANCE:1
CLASS:PUBLIC
END:VEVENT
END:VCALENDAR
