BEGIN:VCALENDAR
PRODID:-//kirchenweb.ch gmbh//veranstaltungsausgabe v2.0//DE
VERSION:2.0
METHOD:PUBLISH
BEGIN:VEVENT
DTSTART:20260415T133000Z
DTEND:20260415T141500Z
LOCATION:Kirche\, Schönenbergstr. 9\, 8820 Wädenswil
TRANSP:OPAQUE
SEQUENCE:0
UID:44178-veranstaltung@kirche-waedenswil.ch
DTSTAMP:20260301T102648Z
DESCRIPTION:Was isch Liebi?\nToni\, das Eichhörnchen\, ist neugierig. Er
  hat ganz viele Fragen: „Schlafen die Sterne am Tag?“\, „Wie schaut
  es in einem Schneckenhaus aus?“ und „Was ist eigentlich Liebe?“
  Diese Frage beschäftigt Toni sehr fest und drum macht er sich auf die
  Suche nach einer Antwort und findet schliesslich ganz viele.\n\nKomm\,
  und höre die Geschichte. Wir freuen uns auf dich!\n\n\nFiire mit de
  Chliine\n- eine Feier für die Kleinen bis zu fünf Jahren mit ihren
  Bezugspersonen. Ältere Kinder sind auch herzlich willkommen!\n- eine
  spannende Geschichte\n- singen\, beten\, feiern\, spielen\, zusammen sein
 \n- eine gute Möglichkeit\, neue Bekanntschaften zu schliessen\n\nTeam
 \nEine Gruppe von Frauen mit guten Ideen\, viel Herzblut und Kreativität:
  Anita Krauss-Breitling\, Andrea Kurzen\, Sabine Grätzer und Pfrn. Salome
  Probst\n\n\nKontakt: Pfrn. Salome Probst\, 079 324 97 79\n\nWeitere
  Infos: https://www.kirche-waedenswil.ch/veranstaltung/44178
SUMMARY:Fiire mit de Chliine
PRIORITY:5
X-MICROSOFT-CDO-IMPORTANCE:1
CLASS:PUBLIC
END:VEVENT
END:VCALENDAR
