BEGIN:VCALENDAR
PRODID:-//kirchenweb.ch gmbh//veranstaltungsausgabe v2.0//DE
VERSION:2.0
METHOD:PUBLISH
BEGIN:VEVENT
DTSTART:20261129T101500Z
DTEND:20261129T111500Z
LOCATION:Kirchenpavillon Au\, General-Werdmüller-Strasse 20\, 8804 Au
TRANSP:OPAQUE
SEQUENCE:0
UID:44077-veranstaltung@kirche-waedenswil.ch
DTSTAMP:20260413T095425Z
DESCRIPTION:Der Betrag kommt derjenigen Organisation zugute\, welche im
  Gottesdienst erwähnt wurde. Spenden während der Woche werden dem
  Empfänger des letzten Gottesdienstes zugewiesen.\n\nEs ist nicht
  ersichtlich\, von wem die Spende überwiesen wurde.\n\nKontakt: Pfarrer
  Erich Bosshard-Nepustil / 079 530 40 24\n\nWeitere Infos:
  https://www.kirche-waedenswil.ch/veranstaltung/44077
SUMMARY:Gottesdienst - Au - 1. Advent
PRIORITY:5
X-MICROSOFT-CDO-IMPORTANCE:1
CLASS:PUBLIC
END:VEVENT
END:VCALENDAR
