BEGIN:VCALENDAR
PRODID:-//kirchenweb.ch gmbh//veranstaltungsausgabe v2.0//DE
VERSION:2.0
METHOD:PUBLISH
BEGIN:VEVENT
DTSTART:20260628T091500Z
DTEND:20260628T101500Z
LOCATION:Kirchenpavillon Au\, General-Werdmüller-Strasse 20\, 8804 Au
TRANSP:OPAQUE
SEQUENCE:0
UID:44055-veranstaltung@kirche-waedenswil.ch
DTSTAMP:20260119T150926Z
DESCRIPTION:Wer die Jugendkollekte unterstützen möchte\, kann dies auch
  via Twint tun: \n\n\n\nKontakt: Pfr. Frank Lehmann\, 078 626 00 18\n
 \nWeitere Infos: https://www.kirche-waedenswil.ch/veranstaltung/44055
SUMMARY:Gottesdienst - Au
PRIORITY:5
X-MICROSOFT-CDO-IMPORTANCE:1
CLASS:PUBLIC
END:VEVENT
END:VCALENDAR
