BEGIN:VCALENDAR
PRODID:-//kirchenweb.ch gmbh//veranstaltungsausgabe v2.0//DE
VERSION:2.0
METHOD:PUBLISH
BEGIN:VEVENT
DTSTART:20260621T091500Z
DTEND:20260621T101500Z
LOCATION:Kirchenpavillon Au\, General-Werdmüller-Strasse 20\, 8804 Au
TRANSP:OPAQUE
SEQUENCE:0
UID:44054-veranstaltung@kirche-waedenswil.ch
DTSTAMP:20260119T151153Z
DESCRIPTION:Wer die Flüchtlingskollekte unterstützen möchte\, kann dies
  auch via Twint tun: \n\n\n\n\nKontakt: Pfr. Frank Lehmann\, 078 626 00 18
 \n\nWeitere Infos: https://www.kirche-waedenswil.ch/veranstaltung/44054
SUMMARY:Gottesdienst - Au
PRIORITY:5
X-MICROSOFT-CDO-IMPORTANCE:1
CLASS:PUBLIC
END:VEVENT
END:VCALENDAR
