BEGIN:VCALENDAR
PRODID:-//kirchenweb.ch gmbh//veranstaltungsausgabe v2.0//DE
VERSION:2.0
METHOD:PUBLISH
BEGIN:VEVENT
DTSTART:20260419T091500Z
DTEND:20260419T101500Z
LOCATION:Kirchenpavillon Au\, General-Werdmüller-Strasse 20\, 8804 Au
TRANSP:OPAQUE
SEQUENCE:0
UID:44045-veranstaltung@kirche-waedenswil.ch
DTSTAMP:20260409T131006Z
DESCRIPTION:Jesus zu Besuch bei Maria und Marta\n\nMaria\, die zuhört
 \nMarta\, die fleissig ist\, aber davon genervt \n\n\n\nVom sich Sorgen
  machen ... \nWeg vom hoffentlich nicht - hoffentlich nicht - hoffentlich
  nicht \nhin zum: Dann werde ich ... \n\n\n\n\n\n\nDer Betrag kommt
  derjenigen Organisation zugute\, welche im Gottesdienst erwähnt wurde.
  Spenden während der Woche werden dem Empfänger des letzten
  Gottesdienstes zugewiesen.\n\nEs ist nicht ersichtlich\, von wem die
  Spende überwiesen wurde.\n\nKontakt: Pfr. Christian Scharpf\, 078 622 00
  28\n\nWeitere Infos: https://www.kirche-waedenswil.ch/veranstaltung/44045
SUMMARY:Gottesdienst - Au
PRIORITY:5
X-MICROSOFT-CDO-IMPORTANCE:1
CLASS:PUBLIC
END:VEVENT
END:VCALENDAR
