BEGIN:VCALENDAR
PRODID:-//kirchenweb.ch gmbh//veranstaltungsausgabe v2.0//DE
VERSION:2.0
METHOD:PUBLISH
BEGIN:VEVENT
DTSTART:20260322T101500Z
DTEND:20260322T111500Z
LOCATION:Kirchenpavillon Au\, General-Werdmüller-Strasse 20\, 8804 Au
TRANSP:OPAQUE
SEQUENCE:0
UID:44041-veranstaltung@kirche-waedenswil.ch
DTSTAMP:20260317T144233Z
DESCRIPTION:Bittet\, so wird Euch gegeben … \n\n… aber es wird nicht
  jeder Kelch an Euch vorübergehen. \n\n\n\nJesus verspricht ganz
  Erstaunliches: \nBittet\, so wird euch gegeben; \nsucht\, so werdet ihr
  finden; \nklopft an\, so wird euch aufgetan. \nDenn wer bittet\,
  empfängt; \nwer sucht\, der findet; \nwer anklopft\, dem wird aufgetan. 
   Mt 7\,7-8\n\nAber in der Nacht auf Karfreitag betet Jesus:\nMein Vater\,
  wenn es möglich ist\, so gehe dieser Kelch an mir vorüber.   Mt 26\,29
 \n\nUnd wie wir wissen\, wird Jesus nicht erhört. Er stirbt am Kreuz. 
 \nDer heiligste aller Bittsteller wird nicht erhört.\n\nDarum geht es im
  GD vom 22. März\n\n\n\n\n\n\n\n\n\nDer Betrag kommt derjenigen
  Organisation zugute\, welche im Gottesdienst erwähnt wurde. Spenden
  während der Woche werden dem Empfänger des letzten Gottesdienstes
  zugewiesen.\n\nEs ist nicht ersichtlich\, von wem die Spende überwiesen
  wurde.\n\nKontakt: Pfr. Christian Scharpf\, 078 622 00 28\n\nWeitere
  Infos: https://www.kirche-waedenswil.ch/veranstaltung/44041
SUMMARY:Gottesdienst - Au
PRIORITY:5
X-MICROSOFT-CDO-IMPORTANCE:1
CLASS:PUBLIC
END:VEVENT
END:VCALENDAR
