BEGIN:VCALENDAR
PRODID:-//kirchenweb.ch gmbh//veranstaltungsausgabe v2.0//DE
VERSION:2.0
METHOD:PUBLISH
BEGIN:VEVENT
DTSTART:20261115T093000Z
DTEND:20261115T103000Z
LOCATION:Kirche\, Schönenbergstr. 9\, 8820 Wädenswil
TRANSP:OPAQUE
SEQUENCE:0
UID:44026-veranstaltung@kirche-waedenswil.ch
DTSTAMP:20251104T083652Z
DESCRIPTION:Der Betrag kommt derjenigen Organisation zugute\, welche im
  Gottesdienst erwähnt wurde. Spenden während der Woche werden dem
  Empfänger des letzten Gottesdienstes zugewiesen.\n\nEs ist nicht
  ersichtlich\, von wem die Spende überwiesen wurde.\n\nKontakt: Pfrn.
  Salome Probst\, 079 324 97 79\n\nWeitere Infos:
  https://www.kirche-waedenswil.ch/veranstaltung/44026
SUMMARY:Gottesdienst - FamilyChurch
PRIORITY:5
X-MICROSOFT-CDO-IMPORTANCE:1
CLASS:PUBLIC
END:VEVENT
END:VCALENDAR
