BEGIN:VCALENDAR
PRODID:-//kirchenweb.ch gmbh//veranstaltungsausgabe v2.0//DE
VERSION:2.0
METHOD:PUBLISH
BEGIN:VEVENT
DTSTART:20261025T090000Z
DTEND:20261025T100000Z
LOCATION:Kirche\, Schönenbergstr. 9\, 8820 Wädenswil
TRANSP:OPAQUE
SEQUENCE:0
UID:44023-veranstaltung@kirche-waedenswil.ch
DTSTAMP:20260414T160308Z
DESCRIPTION:Wenn Sie die Kollekte unterstützen möchten\, so können Sie
  das auch via Twint tun:\n\n\n\n\nKontakt: Pfrn. Salome Probst\, 079 324
  97 79\n\nWeitere Infos:
  https://www.kirche-waedenswil.ch/veranstaltung/44023
SUMMARY:Gottesdienst
PRIORITY:5
X-MICROSOFT-CDO-IMPORTANCE:1
CLASS:PUBLIC
END:VEVENT
END:VCALENDAR
