BEGIN:VCALENDAR
PRODID:-//kirchenweb.ch gmbh//veranstaltungsausgabe v2.0//DE
VERSION:2.0
METHOD:PUBLISH
BEGIN:VEVENT
DTSTART:20260906T080000Z
DTEND:20260906T090000Z
LOCATION:Kirchgemeindehaus Rosenmatt\, Gessnerweg 5\, 8820 Wädenswil
TRANSP:OPAQUE
SEQUENCE:0
UID:44016-veranstaltung@kirche-waedenswil.ch
DTSTAMP:20251104T083301Z
DESCRIPTION:Der Betrag kommt derjenigen Organisation zugute\, welche im
  Gottesdienst erwähnt wurde. Spenden während der Woche werden dem
  Empfänger des letzten Gottesdienstes zugewiesen.\n\nEs ist nicht
  ersichtlich\, von wem die Spende überwiesen wurde.\n\nKontakt: Pfrn.
  Undine Gellner\, 044 680 41 48\n\nWeitere Infos:
  https://www.kirche-waedenswil.ch/veranstaltung/44016
SUMMARY:Gottesdienst - Taufen im Rosenhofpark
PRIORITY:5
X-MICROSOFT-CDO-IMPORTANCE:1
CLASS:PUBLIC
END:VEVENT
END:VCALENDAR
