BEGIN:VCALENDAR
PRODID:-//kirchenweb.ch gmbh//veranstaltungsausgabe v2.0//DE
VERSION:2.0
METHOD:PUBLISH
BEGIN:VEVENT
DTSTART:20260816T080000Z
DTEND:20260816T090000Z
LOCATION:Kirche\, Schönenbergstr. 9\, 8820 Wädenswil
TRANSP:OPAQUE
SEQUENCE:0
UID:44013-veranstaltung@kirche-waedenswil.ch
DTSTAMP:20260202T105742Z
DESCRIPTION:Falls Sie die Kollekte für die https://www.msf.ch/de
  unterstützen möchten\, so können Sie dies auch via Twint tun:\n\n\n\n
 \nKontakt: Pfr. Frank Lehmann\, 078 626 00 18\n\nWeitere Infos:
  https://www.kirche-waedenswil.ch/veranstaltung/44013
SUMMARY:Gottesdienst
PRIORITY:5
X-MICROSOFT-CDO-IMPORTANCE:1
CLASS:PUBLIC
END:VEVENT
END:VCALENDAR
