BEGIN:VCALENDAR
PRODID:-//kirchenweb.ch gmbh//veranstaltungsausgabe v2.0//DE
VERSION:2.0
METHOD:PUBLISH
BEGIN:VEVENT
DTSTART:20260712T080000Z
DTEND:20260712T090000Z
LOCATION:Kirchgemeindehaus Rosenmatt\, Gessnerweg 5\, 8820 Wädenswil
TRANSP:OPAQUE
SEQUENCE:0
UID:44008-veranstaltung@kirche-waedenswil.ch
DTSTAMP:20260311T085717Z
DESCRIPTION:Der Betrag kommt derjenigen Organisation zugute\, welche im
  Gottesdienst erwähnt wurde. Spenden während der Woche werden dem
  Empfänger des letzten Gottesdienstes zugewiesen.\n\nEs ist nicht
  ersichtlich\, von wem die Spende überwiesen wurde.\n\nKontakt: Pfrn.
  Salome Probst\, 079 324 97 79\n\nWeitere Infos:
  https://www.kirche-waedenswil.ch/veranstaltung/44008
SUMMARY:Gottesdienst Klangbild
PRIORITY:5
X-MICROSOFT-CDO-IMPORTANCE:1
CLASS:PUBLIC
END:VEVENT
END:VCALENDAR
