BEGIN:VCALENDAR
PRODID:-//kirchenweb.ch gmbh//veranstaltungsausgabe v2.0//DE
VERSION:2.0
METHOD:PUBLISH
BEGIN:VEVENT
DTSTART:20260614T080000Z
DTEND:20260614T090000Z
LOCATION:Kirche\, Schönenbergstr. 9\, 8820 Wädenswil
TRANSP:OPAQUE
SEQUENCE:0
UID:44004-veranstaltung@kirche-waedenswil.ch
DTSTAMP:20260223T161339Z
DESCRIPTION:Der klassische Gottesdienst – "Gotteslob und
  Gottessehnsucht: Choräle und die Musik von Johann Sebastian Bach"\n\nDie
  diesjährige Reihe der Klassischen Gottesdienste beschäftigt sich mit
  alten Chorälen im Kirchgesangbuch\, die von Johann Sebastian Bach
  bearbeitet wurden. Mirjam Wagner-Meister wird an der Orgel die
  Choralbearbeitungen präsentieren\, Pfarrerin Undine Gellner die
  Choraltexte interpretieren. \nAm 14. Juni steht das Gotteslob im Zentrum.
  Die Choräle „Allein Gott in der Höh sei Ehr“\, Schmücke dich o
  liebe Seele“ und „Liebster Jesu\, wir sind hier“ werden musikalisch
  und theologisch beleuchtet.\n\n\n\n\n\n\nDer Betrag kommt derjenigen
  Organisation zugute\, welche im Gottesdienst erwähnt wurde. Spenden
  während der Woche werden dem Empfänger des letzten Gottesdienstes
  zugewiesen.\n\nEs ist nicht ersichtlich\, von wem die Spende überwiesen
  wurde.\n\nKontakt: Pfrn. Undine Gellner\, 044 680 41 48\n\nWeitere Infos:
  https://www.kirche-waedenswil.ch/veranstaltung/44004
SUMMARY:Der klassische Gottesdienst
PRIORITY:5
X-MICROSOFT-CDO-IMPORTANCE:1
CLASS:PUBLIC
END:VEVENT
END:VCALENDAR
