BEGIN:VCALENDAR
PRODID:-//kirchenweb.ch gmbh//veranstaltungsausgabe v2.0//DE
VERSION:2.0
METHOD:PUBLISH
BEGIN:VEVENT
DTSTART:20260607T080000Z
DTEND:20260607T090000Z
LOCATION:Kirche\, Schönenbergstr. 9\, 8820 Wädenswil
TRANSP:OPAQUE
SEQUENCE:0
UID:44003-veranstaltung@kirche-waedenswil.ch
DTSTAMP:20251106T125817Z
DESCRIPTION:Der Betrag kommt derjenigen Organisation zugute\, welche im
  Gottesdienst erwähnt wurde. Spenden während der Woche werden dem
  Empfänger des letzten Gottesdienstes zugewiesen.\n\nEs ist nicht
  ersichtlich\, von wem die Spende überwiesen wurde.\n\nKontakt: Pfr.
  Christian Scharpf\, 078 622 00 28\n\nWeitere Infos:
  https://www.kirche-waedenswil.ch/veranstaltung/44003
SUMMARY:Konfirmationsgottesdienst Dienstags-Gruppen B und C
PRIORITY:5
X-MICROSOFT-CDO-IMPORTANCE:1
CLASS:PUBLIC
END:VEVENT
END:VCALENDAR
